Workbook
Name CourseName: Table1[[#All],[course names]]

Sheet Database
A5: Name | B5: Personnel Number | C5: Course Name | D5: Attendance date | E5: Duration | F5: Renewal Date
A6: Menegilda Puddifoot | C6: Breastfeeding | D6: 44765 | E6: =VLOOKUP(C6,'List of course names'!E:F,2,0) -> 720 | F6: =D6+E6 -> 45485
A7: Lobelia Goldworthy | C7: Communications Module 1 | D7: 46127 | E7: =VLOOKUP(C7,'List of course names'!E:F,2,0) -> 365 | F7: =D7+E7 -> 46492
A8: Gorbaduc Gamgee | C8: Communications Module 2 | D8: 46845 | E8: =VLOOKUP(C8,'List of course names'!E:F,2,0) -> 365 | F8: =D8+E8 -> 47210
A9: Harding Brandybuck | C9: Communications Module 3 | D9: 45633 | E9: =VLOOKUP(C9,'List of course names'!E:F,2,0) -> 365 | F9: =D9+E9 -> 45998
A10: Gorbaduc Gamgee | C10: PROMPT | D10: 45088 | E10: =VLOOKUP(C10,'List of course names'!E:F,2,0) -> 720 | F10: =D10+E10 -> 45808
A11: Duenna Button | C11: Communications Module 3 | D11: 45620 | E11: =VLOOKUP(C11,'List of course names'!E:F,2,0) -> 365 | F11: =D11+E11 -> 45985
A12: Harding Brandybuck | C12: CTG | D12: 46999 | E12: =VLOOKUP(C12,'List of course names'!E:F,2,0) -> 720 | F12: =D12+E12 -> 47719
A13: Cerdic Lothran | C13: NRP | D13: 46296 | E13: =VLOOKUP(C13,'List of course names'!E:F,2,0) -> 720 | F13: =D13+E13 -> 47016
A14: Peony Boffin | C14: PROMPT | D14: 46906 | E14: =VLOOKUP(C14,'List of course names'!E:F,2,0) -> 720 | F14: =D14+E14 -> 47626
A15: Adelgrim Goodbody | C15: Communications Module 2 | D15: 45546 | E15: =VLOOKUP(C15,'List of course names'!E:F,2,0) -> 365 | F15: =D15+E15 -> 45911
A16: Marigold Hayward | C16: Breastfeeding | D16: 45265 | E16: =VLOOKUP(C16,'List of course names'!E:F,2,0) -> 720 | F16: =D16+E16 -> 45985
A17: Marigold Hayward | C17: Communications Module 1 | D17: 46590 | E17: =VLOOKUP(C17,'List of course names'!E:F,2,0) -> 365 | F17: =D17+E17 -> 46955
... A29: Haiduc Greenhand | C29: Communications Module 3 | D29: 46673 | E29: =VLOOKUP(C29,'List of course names'!E:F,2,0) -> 365 | F29: =D29+E29 -> 47038

Sheet List of course names
B4: course names | E4: Duration | F4: Days
B5: BLS | E5: BLS | F5: 720
B6: Breastfeeding | E6: Breastfeeding | F6: 720
B7: Communications Module 1 | E7: Communications Module 1 | F7: 365
B8: Communications Module 2 | E8: Communications Module 2 | F8: 365
B9: Communications Module 3 | E9: Communications Module 3 | F9: 365
B10: CTG | E10: CTG | F10: 720
B11: NRP | E11: NRP | F11: 720
B12: Preceptorship | E12: Preceptorship | F12: 720
B13: PROMPT | E13: PROMPT | F13: 720
